BEGIN:VCALENDAR
VERSION:2.0
PRODID:-//eventon.com NONSGML v1.0//EN
CALSCALE:GREGORIAN
METHOD:PUBLISH
BEGIN:VEVENT
UID:69e62f1200d17
DTSTAMP:20260420T135010Z
DTSTART:20260213T150000Z
DTEND:20260213T225900Z
LOCATION:
SUMMARY:CaMiBo
DESCRIPTION:CaMiBo komt terug\,  nu met onze vrienden van de Blaalse Frikan
 dellen-eet-wedstrijd! Vorig jaar zijn we begonnen met een heuse carnavals m
 iddag borrel. Speciaal voor bedrijven uit de Kempen (of daarbuiten) en hun 
 personeel. Dit jaar gaan we daar nog een tandje bij zetten. We zijn namelij
 k de samenwerking aangegaan met[..]\nhttps://www.demuggezifters.nl/events/c
 amibo/
URL:https://www.demuggezifters.nl/events/camibo/
END:VEVENT
END:VCALENDAR