BEGIN:VCALENDAR
VERSION:2.0
PRODID:-//eventon.com NONSGML v1.0//EN
CALSCALE:GREGORIAN
METHOD:PUBLISH
BEGIN:VEVENT
UID:69e5f8bdf1486
DTSTAMP:20260420T095821Z
DTSTART:20250222T184900Z
DTEND:20250222T225900Z
LOCATION:
SUMMARY:De Nieuwe Blaalse Revue - Avond 4
DESCRIPTION:Stoelen reserveren Selecteer de stoelen naar keuze in de platte
 grond (daarna verschijnt de winkelwagen knop). Klik daarna onderin op in wi
 nkelwagen. Ben je klaar met het selecteren van alle stoelen? Klik daarna op
  betalen of afrekenen. Volg de betaalinstructies op de volgende pagina.\nht
 tps://www.demuggezifters.nl/events/de-nieuwe-blaalse-revue-avond-4/
URL:https://www.demuggezifters.nl/events/de-nieuwe-blaalse-revue-avond-4/
END:VEVENT
END:VCALENDAR