BEGIN:VCALENDAR
VERSION:2.0
PRODID:-//eventon.com NONSGML v1.0//EN
CALSCALE:GREGORIAN
METHOD:PUBLISH
BEGIN:VEVENT
UID:69e74dbee9a03
DTSTAMP:20260421T101318Z
DTSTART:20240212T170000Z
DTEND:20240212T225000Z
LOCATION:
SUMMARY:Bourgondisch Boerenbal met De Suskes band
DESCRIPTION:Bourgondisch Boerenbal met De Suskes band\nhttps://www.demuggez
 ifters.nl/events/bourgondisch-boerenbal-met-de-suskes-band/
URL:https://www.demuggezifters.nl/events/bourgondisch-boerenbal-met-de-suskes-band/
END:VEVENT
END:VCALENDAR