BEGIN:VCALENDAR
VERSION:2.0
PRODID:-//eventon.com NONSGML v1.0//EN
CALSCALE:GREGORIAN
METHOD:PUBLISH
BEGIN:VEVENT
UID:69e6107729d4a
DTSTAMP:20260420T113935Z
DTSTART:20250302T193000Z
DTEND:20250302T225900Z
LOCATION:Markt Bladel Markt
SUMMARY:Het Grote Prijzenbal
DESCRIPTION:Het Grote Prijzenbal\nhttps://www.demuggezifters.nl/events/het-
 grote-prijzenbal-met-jan-biggel-thom-craane/
URL:https://www.demuggezifters.nl/events/het-grote-prijzenbal-met-jan-biggel-thom-craane/
END:VEVENT
END:VCALENDAR