BEGIN:VCALENDAR
VERSION:2.0
PRODID:-//eventon.com NONSGML v1.0//EN
CALSCALE:GREGORIAN
METHOD:PUBLISH
BEGIN:VEVENT
UID:69e5fad35aca8
DTSTAMP:20260420T100715Z
DTSTART:20240209T190000Z
DTEND:20240209T225000Z
LOCATION:
SUMMARY:Rijnlands Carnaval
DESCRIPTION:Na het bal der leraren\,  waarbij overigens gewoon IEDEREEN gez
 ellig WELKOM is\,  gaan we naadloos over in de avond. We hebben immers een 
 VERRUKKELIJK assortiment van FOOD in onze tent. Geen reden om deze te verla
 ten dus. In de avond geven we er dit jaar een LICHT DUITS TINTJE aan.[..]\n
 https://www.demuggezifters.nl/events/rijnlands-carnaval/
URL:https://www.demuggezifters.nl/events/rijnlands-carnaval/
END:VEVENT
END:VCALENDAR