BEGIN:VCALENDAR
VERSION:2.0
PRODID:-//eventon.com NONSGML v1.0//EN
CALSCALE:GREGORIAN
METHOD:PUBLISH
BEGIN:VEVENT
UID:69e57a712ca5f
DTSTAMP:20260420T005929Z
DTSTART:20250304T090000Z
DTEND:20250304T110000Z
LOCATION:
SUMMARY:Peuter- en kleuterbal Muggelarven
DESCRIPTION:Wie: Iedereen Waar: In de tent Tijden: 10.00 &#8211; 12.00 Acti
 viteit: Helpen de spelletjes begeleiden bij de peuters en de kleuters\nhttp
 s://www.demuggezifters.nl/events/peuter-en-kleuterbal-muggelarven/
URL:https://www.demuggezifters.nl/events/peuter-en-kleuterbal-muggelarven/
END:VEVENT
END:VCALENDAR