BEGIN:VCALENDAR
VERSION:2.0
PRODID:-//eventon.com NONSGML v1.0//EN
CALSCALE:GREGORIAN
METHOD:PUBLISH
BEGIN:VEVENT
UID:69e60e5682563
DTSTAMP:20260420T113030Z
DTSTART:20260217T090000Z
DTEND:20260217T225900Z
LOCATION:Markt Bladel Markt
SUMMARY:Peuter- en kleuterbal
DESCRIPTION:Om 10.00 uur zullen we starten met het festijn voor de allerkle
 inste\,  net ontpopte mugjes; ons eigen peuter- en kleuterbal. Jullie dacht
 en misschien al\,  ‘waar is de PEUTEREN KLEUTER CARNAVAL gebleven?’ Nie
 t gevreesd\,  deze schuiven we een dagje op naar de dinsdag. We vergeten na
 tuurlijk ONZE KLEINSTEN niet. Dit jaar[..]\nhttps://www.demuggezifters.nl/e
 vents/peuter-en-kleuterbal/
URL:https://www.demuggezifters.nl/events/peuter-en-kleuterbal/
END:VEVENT
END:VCALENDAR