BEGIN:VCALENDAR
VERSION:2.0
PRODID:-//eventon.com NONSGML v1.0//EN
CALSCALE:GREGORIAN
METHOD:PUBLISH
BEGIN:VEVENT
UID:69e60d312488a
DTSTAMP:20260420T112537Z
DTSTART:20260213T190000Z
DTEND:20260213T225900Z
LOCATION:
SUMMARY:Carnabal
DESCRIPTION:Na de middagborrel gaan we vloeiend over in een geweldige eerst
 e avond. Al jaren blijkt de vrijdag niet meer onder te doen voor de drukste
  avond op zaterdag. Bladel laat telkens zien niet te kunnen wachten tot de 
 Blaalse Carnaval weer begint. En dat is meer dan terecht! Ook dit[..]\nhttp
 s://www.demuggezifters.nl/events/carnabal-der-leer-raar/
URL:https://www.demuggezifters.nl/events/carnabal-der-leer-raar/
END:VEVENT
END:VCALENDAR