BEGIN:VCALENDAR
VERSION:2.0
PRODID:-//eventon.com NONSGML v1.0//EN
CALSCALE:GREGORIAN
METHOD:PUBLISH
BEGIN:VEVENT
UID:69e60df2e6f00
DTSTAMP:20260420T112850Z
DTSTART:20250223T120000Z
DTEND:20250223T225900Z
LOCATION:
SUMMARY:Carnavals concert
DESCRIPTION:Carnavals concert\nhttps://www.demuggezifters.nl/events/carnava
 ls-concert/
URL:https://www.demuggezifters.nl/events/carnavals-concert/
END:VEVENT
END:VCALENDAR