BEGIN:VCALENDAR
VERSION:2.0
PRODID:-//eventon.com NONSGML v1.0//EN
CALSCALE:GREGORIAN
METHOD:PUBLISH
BEGIN:VEVENT
UID:69e60e2d44931
DTSTAMP:20260420T112949Z
DTSTART:20240130T180000Z
DTEND:20240130T225000Z
LOCATION:
SUMMARY:Bezoek Floriaan
DESCRIPTION:Bezoek Floriaan\nhttps://www.demuggezifters.nl/events/bezoek-fl
 oriaan/
URL:https://www.demuggezifters.nl/events/bezoek-floriaan/
END:VEVENT
END:VCALENDAR